BEGIN:VCALENDAR
VERSION:2.0
PRODID:-// - ECPv6.15.17//NONSGML v1.0//EN
CALSCALE:GREGORIAN
METHOD:PUBLISH
X-ORIGINAL-URL:https://aleph1formacion.com
X-WR-CALDESC:Eventos para 
REFRESH-INTERVAL;VALUE=DURATION:PT1H
X-Robots-Tag:noindex
X-PUBLISHED-TTL:PT1H
BEGIN:VTIMEZONE
TZID:UTC
BEGIN:STANDARD
TZOFFSETFROM:+0000
TZOFFSETTO:+0000
TZNAME:UTC
DTSTART:20230101T000000
END:STANDARD
END:VTIMEZONE
BEGIN:VEVENT
DTSTART;TZID=UTC:20240916T180000
DTEND;TZID=UTC:20240916T180000
DTSTAMP:20260420T120442
CREATED:20240915T164542Z
LAST-MODIFIED:20240915T164542Z
UID:183-1726509600-1726509600@aleph1formacion.com
SUMMARY:Matemáticas - Curso 0 - Clase online
DESCRIPTION:Clase 1 . Lógica elemental.
URL:https://aleph1formacion.com/event/matematicas-curso-0-clase-online/
CATEGORIES:Matemáticas - Curso 0 - Clase online
END:VEVENT
END:VCALENDAR